BEGIN:VCALENDAR
VERSION:2.0
PRODID:-//International Car Events by Car Scene Int. - ECPv6.5.0.1//NONSGML v1.0//EN
CALSCALE:GREGORIAN
METHOD:PUBLISH
X-ORIGINAL-URL:https://internationalcarevents.com
X-WR-CALDESC:Events for International Car Events by Car Scene Int.
REFRESH-INTERVAL;VALUE=DURATION:PT1H
X-Robots-Tag:noindex
X-PUBLISHED-TTL:PT1H
BEGIN:VTIMEZONE
TZID:America/Halifax
BEGIN:DAYLIGHT
TZOFFSETFROM:-0400
TZOFFSETTO:-0300
TZNAME:ADT
DTSTART:20260308T060000
END:DAYLIGHT
BEGIN:STANDARD
TZOFFSETFROM:-0300
TZOFFSETTO:-0400
TZNAME:AST
DTSTART:20261101T050000
END:STANDARD
TZID:America/Denver
BEGIN:DAYLIGHT
TZOFFSETFROM:-0700
TZOFFSETTO:-0600
TZNAME:MDT
DTSTART:20260308T090000
END:DAYLIGHT
BEGIN:STANDARD
TZOFFSETFROM:-0600
TZOFFSETTO:-0700
TZNAME:MST
DTSTART:20261101T080000
END:STANDARD
END:VTIMEZONE
BEGIN:VEVENT
DTSTART;VALUE=DATE:20260101
DTEND;VALUE=DATE:20270101
DTSTAMP:20260421T184508
CREATED:20260120T194305Z
LAST-MODIFIED:20260120T194305Z
UID:10004070-1767225600-1798761599@internationalcarevents.com
SUMMARY:Classic Auto Mall Auctions - 2026
DESCRIPTION:­­­­­­­­­­­­­­­­­­­Based in Morgantown\, south-eastern Pennsylvania\, USA\,­­­­­­­­­­­­­­­­­­­ Classic Auto Mall (CAM) is a respected consignment house with indoor showroom space for up to 1\,000 collectable and special interest vehicles offered for sale. \nIf you want to submit your car for consignment (entirely at CAM’s discretion) please reach out directly to CAM President\, Stewart Howden\, at stewarth@classicautomall.com or via telephone at (610) 901-3804. \nClick on this image to see the lots currently available on a CAM webpage – \n \nNote: – \nThe purpose of this webpage is to provide information on a Classic Car Auction. It refers to material that is in the Public Domain. Carsceneinternational.com has no commercial relationship with the organiser or sponsors featured and cannot be held responsible for any errors or misinformation appearing on this webpage. It is advisable to contact the Auction House featured to verify the details of any or all of the vehicles referred to on this page. \n\n\nPrivacy Policy \n© carsceneinternational.com
URL:https://internationalcarevents.com/event/classic-auto-mall-auctions-2026/2026-01-01/
LOCATION:Classic Auto Mall\, 6180 Morgantown Road\, Morgantown\, PA\, 19543\, United States
CATEGORIES:Collector Car Auction
ATTACH;FMTTYPE=image/jpeg:https://internationalcarevents.com/wp-content/uploads/2026/01/1986-dodge-shelby-charger.jpg
END:VEVENT
BEGIN:VEVENT
DTSTART;TZID=America/Denver:20260117T080000
DTEND;TZID=America/Denver:20260125T190000
DTSTAMP:20260421T184508
CREATED:20260112T200624Z
LAST-MODIFIED:20260112T200624Z
UID:10003558-1768636800-1769367600@internationalcarevents.com
SUMMARY:Barrett-Jackson Scottsdale Auction - January 17-25 2026
DESCRIPTION:Celebrating the collector car hobby\, the Barrett-Jackson flagship auction\, held at West World\, Scottsdale AZ.\, was first held in 1971. Ever since enthusiasts from all over the world have flocked to the Barrett-Jackson collector car auctions held in Scottsdale AZ.  \nClick on this image to see lots consigned to this auction on a Barrett-Jackson webpage \n \n  \nBUY TICKETS \nClicking on this buttons will take you to an AXS webpage. \nNote: – \nThe purpose of this webpage is to provide information on a Classic Car Auction. It refers to material that is in the Public Domain. Carsceneinternational.com has no commercial relationship with the organiser or sponsors featured and cannot be held responsible for any errors or misinformation appearing on this webpage. It is advisable to contact the Auction House featured to verify the details of any or all of the vehicles referred to on this page. \n\n\nPrivacy Policy \n© carsceneinternational.com
URL:https://internationalcarevents.com/event/barrett-jackson-scottsdale-auction-january-17-25-2026/
LOCATION:WestWorld\, North Pima Road\, Scottsdale\, AZ\, 85260\, United States
CATEGORIES:Classic Car Auctions,Collector Car Auction
ATTACH;FMTTYPE=image/webp:https://internationalcarevents.com/wp-content/uploads/2026/01/jaguar-XJL.webp
GEO:33.6363028;-111.889495
X-APPLE-STRUCTURED-LOCATION;VALUE=URI;X-ADDRESS=WestWorld North Pima Road Scottsdale AZ 85260 United States;X-APPLE-RADIUS=500;X-TITLE=North Pima Road:geo:-111.889495,33.6363028
END:VEVENT
END:VCALENDAR