BEGIN:VCALENDAR
VERSION:2.0
PRODID:-//International Car Events by Car Scene Int. - ECPv6.5.0.1//NONSGML v1.0//EN
CALSCALE:GREGORIAN
METHOD:PUBLISH
X-ORIGINAL-URL:https://internationalcarevents.com
X-WR-CALDESC:Events for International Car Events by Car Scene Int.
REFRESH-INTERVAL;VALUE=DURATION:PT1H
X-Robots-Tag:noindex
X-PUBLISHED-TTL:PT1H
BEGIN:VTIMEZONE
TZID:Europe/London
BEGIN:DAYLIGHT
TZOFFSETFROM:+0000
TZOFFSETTO:+0100
TZNAME:BST
DTSTART:20250330T010000
END:DAYLIGHT
BEGIN:STANDARD
TZOFFSETFROM:+0100
TZOFFSETTO:+0000
TZNAME:GMT
DTSTART:20251026T010000
END:STANDARD
END:VTIMEZONE
BEGIN:VEVENT
DTSTART;TZID=Europe/London:20250325T100000
DTEND;TZID=Europe/London:20250325T150000
DTSTAMP:20260422T094731
CREATED:20250317T201116Z
LAST-MODIFIED:20250317T201116Z
UID:10001093-1742896800-1742914800@internationalcarevents.com
SUMMARY:Ewbank's Classic\, Modern Cars & Automobilia Auction - 25 March 2025
DESCRIPTION:Here is information on Ewbank’s latest classic car\, motorcycle and automobilia auction to be held on 25 March at their Woking premises. Their auctions offer the opportunity to buy and sell classic and vintage cars\, as well as all things car-related.  They serve car club members\, private collectors\, and trade sellers from the UK and beyond. \nClick on this image to view the lots available in this auction and details on how to bid and consign on a Ewbank’s Auctions webpage – \n \nViewing Times\n\n\n\n\n\n\n\nMonday 17 March: 9am-5pm \nTuesday 18 March: 9am-5pm \nWednesday 19 March: 9am-5pm \nThursday 20 March: 9am -5pm \nFriday 21 March: 9am-5pm \nSaturday 22 March: 10am-2pm \nMonday 24 March: 9am-5pm \nDay of sale \n\nNote: – \nThe purpose of this webpage is to provide information on a Classic Cars and Automobilia Auction. It refers to material that is in the Public Domain. Carsceneinternational.com has no commercial relationship with the organiser or sponsors featured and cannot be held responsible for any errors or misinformation appearing on this webpage. It is advisable to contact the Auction House featured to verify the details of any or all of the vehicles shown on this page. \n\n\nClassic and Modern Cars \nPrivacy Policy \n© carsceneinternal.com
URL:https://internationalcarevents.com/event/ewbanks-classic-modern-cars-automobilia-auction-25-march-2025/
LOCATION:Burnt Common Auction Rooms\, London Road\, Send\, Surrey\, GU23\, United Kingdom
CATEGORIES:Automobilia,Classic Car Auctions
ATTACH;FMTTYPE=image/jpeg:https://internationalcarevents.com/wp-content/uploads/2025/03/nr025711-1_1-1.jpg
GEO:51.2793299;-0.5187537
X-APPLE-STRUCTURED-LOCATION;VALUE=URI;X-ADDRESS=Burnt Common Auction Rooms London Road Send Surrey GU23 United Kingdom;X-APPLE-RADIUS=500;X-TITLE=London Road:geo:-0.5187537,51.2793299
END:VEVENT
END:VCALENDAR