BEGIN:VCALENDAR
VERSION:2.0
PRODID:-//International Car Events by Car Scene Int. - ECPv6.5.0.1//NONSGML v1.0//EN
CALSCALE:GREGORIAN
METHOD:PUBLISH
X-WR-CALNAME:International Car Events by Car Scene Int.
X-ORIGINAL-URL:https://internationalcarevents.com
X-WR-CALDESC:Events for International Car Events by Car Scene Int.
REFRESH-INTERVAL;VALUE=DURATION:PT1H
X-Robots-Tag:noindex
X-PUBLISHED-TTL:PT1H
BEGIN:VTIMEZONE
TZID:Europe/London
BEGIN:DAYLIGHT
TZOFFSETFROM:+0000
TZOFFSETTO:+0100
TZNAME:BST
DTSTART:20310330T010000
END:DAYLIGHT
BEGIN:STANDARD
TZOFFSETFROM:+0100
TZOFFSETTO:+0000
TZNAME:GMT
DTSTART:20311026T010000
END:STANDARD
BEGIN:DAYLIGHT
TZOFFSETFROM:+0000
TZOFFSETTO:+0100
TZNAME:BST
DTSTART:20320328T010000
END:DAYLIGHT
BEGIN:STANDARD
TZOFFSETFROM:+0100
TZOFFSETTO:+0000
TZNAME:GMT
DTSTART:20321031T010000
END:STANDARD
END:VTIMEZONE
BEGIN:VEVENT
DTSTART;VALUE=DATE:20310101
DTEND;VALUE=DATE:20320101
DTSTAMP:20260421T154436
CREATED:20230512T105059Z
LAST-MODIFIED:20260120T160915Z
UID:10003693-1924992000-1956527999@internationalcarevents.com
SUMMARY:Collecting Cars - Live Auctions - 2026
DESCRIPTION:Collecting Cars started in the UK\, but quickly expanded with teams in mainland Europe\, Australia and the US. CC has rapidly become a global leader in the market and continues to break records around the world! \nClick on the image to see the latest lots on a Collecting Cars webpage. Note – the car shown may no longer be available – \n \nCONSIGN YOUR CAR \nClicking on this button will take you to a Collecting Cars webpage. \nNote: – \nThe purpose of this webpage is to provide information on a Classic Car Auction. It refers to material that is in the Public Domain. Carsceneinternational.com has no commercial relationship with the organiser or sponsors featured and cannot be held responsible for any errors or misinformation appearing on this webpage. It is advisable to contact the Auction House featured to verify the details of any or all of the vehicles shown on this page. \n\n\nPrivacy Policy \n© carsceneinternational.com
URL:https://internationalcarevents.com/event/collecting-cars-live-auctions-2026/2031-01-01/
LOCATION:Online
CATEGORIES:Classic Car Auctions
ATTACH;FMTTYPE=image/jpeg:https://internationalcarevents.com/wp-content/uploads/2025/12/10-12-25-JJBB-02.jpg
GEO:55.378051;-3.435973
END:VEVENT
BEGIN:VEVENT
DTSTART;VALUE=DATE:20310201
DTEND;VALUE=DATE:20320201
DTSTAMP:20260421T154436
CREATED:20230512T105059Z
LAST-MODIFIED:20260120T160915Z
UID:10003694-1927670400-1959206399@internationalcarevents.com
SUMMARY:Collecting Cars - Live Auctions - 2026
DESCRIPTION:Collecting Cars started in the UK\, but quickly expanded with teams in mainland Europe\, Australia and the US. CC has rapidly become a global leader in the market and continues to break records around the world! \nClick on the image to see the latest lots on a Collecting Cars webpage. Note – the car shown may no longer be available – \n \nCONSIGN YOUR CAR \nClicking on this button will take you to a Collecting Cars webpage. \nNote: – \nThe purpose of this webpage is to provide information on a Classic Car Auction. It refers to material that is in the Public Domain. Carsceneinternational.com has no commercial relationship with the organiser or sponsors featured and cannot be held responsible for any errors or misinformation appearing on this webpage. It is advisable to contact the Auction House featured to verify the details of any or all of the vehicles shown on this page. \n\n\nPrivacy Policy \n© carsceneinternational.com
URL:https://internationalcarevents.com/event/collecting-cars-live-auctions-2026/2031-02-01/
LOCATION:Online
CATEGORIES:Classic Car Auctions
ATTACH;FMTTYPE=image/jpeg:https://internationalcarevents.com/wp-content/uploads/2025/12/10-12-25-JJBB-02.jpg
GEO:55.378051;-3.435973
END:VEVENT
BEGIN:VEVENT
DTSTART;VALUE=DATE:20310301
DTEND;VALUE=DATE:20320229
DTSTAMP:20260421T154436
CREATED:20230512T105059Z
LAST-MODIFIED:20260120T160915Z
UID:10003695-1930089600-1961625599@internationalcarevents.com
SUMMARY:Collecting Cars - Live Auctions - 2026
DESCRIPTION:Collecting Cars started in the UK\, but quickly expanded with teams in mainland Europe\, Australia and the US. CC has rapidly become a global leader in the market and continues to break records around the world! \nClick on the image to see the latest lots on a Collecting Cars webpage. Note – the car shown may no longer be available – \n \nCONSIGN YOUR CAR \nClicking on this button will take you to a Collecting Cars webpage. \nNote: – \nThe purpose of this webpage is to provide information on a Classic Car Auction. It refers to material that is in the Public Domain. Carsceneinternational.com has no commercial relationship with the organiser or sponsors featured and cannot be held responsible for any errors or misinformation appearing on this webpage. It is advisable to contact the Auction House featured to verify the details of any or all of the vehicles shown on this page. \n\n\nPrivacy Policy \n© carsceneinternational.com
URL:https://internationalcarevents.com/event/collecting-cars-live-auctions-2026/2031-03-01/
LOCATION:Online
CATEGORIES:Classic Car Auctions
ATTACH;FMTTYPE=image/jpeg:https://internationalcarevents.com/wp-content/uploads/2025/12/10-12-25-JJBB-02.jpg
GEO:55.378051;-3.435973
END:VEVENT
BEGIN:VEVENT
DTSTART;VALUE=DATE:20310401
DTEND;VALUE=DATE:20320331
DTSTAMP:20260421T154436
CREATED:20230512T105059Z
LAST-MODIFIED:20260120T160915Z
UID:10003696-1932768000-1964303999@internationalcarevents.com
SUMMARY:Collecting Cars - Live Auctions - 2026
DESCRIPTION:Collecting Cars started in the UK\, but quickly expanded with teams in mainland Europe\, Australia and the US. CC has rapidly become a global leader in the market and continues to break records around the world! \nClick on the image to see the latest lots on a Collecting Cars webpage. Note – the car shown may no longer be available – \n \nCONSIGN YOUR CAR \nClicking on this button will take you to a Collecting Cars webpage. \nNote: – \nThe purpose of this webpage is to provide information on a Classic Car Auction. It refers to material that is in the Public Domain. Carsceneinternational.com has no commercial relationship with the organiser or sponsors featured and cannot be held responsible for any errors or misinformation appearing on this webpage. It is advisable to contact the Auction House featured to verify the details of any or all of the vehicles shown on this page. \n\n\nPrivacy Policy \n© carsceneinternational.com
URL:https://internationalcarevents.com/event/collecting-cars-live-auctions-2026/2031-04-01/
LOCATION:Online
CATEGORIES:Classic Car Auctions
ATTACH;FMTTYPE=image/jpeg:https://internationalcarevents.com/wp-content/uploads/2025/12/10-12-25-JJBB-02.jpg
GEO:55.378051;-3.435973
END:VEVENT
BEGIN:VEVENT
DTSTART;VALUE=DATE:20310501
DTEND;VALUE=DATE:20320430
DTSTAMP:20260421T154436
CREATED:20230512T105059Z
LAST-MODIFIED:20260120T160915Z
UID:10003697-1935360000-1966895999@internationalcarevents.com
SUMMARY:Collecting Cars - Live Auctions - 2026
DESCRIPTION:Collecting Cars started in the UK\, but quickly expanded with teams in mainland Europe\, Australia and the US. CC has rapidly become a global leader in the market and continues to break records around the world! \nClick on the image to see the latest lots on a Collecting Cars webpage. Note – the car shown may no longer be available – \n \nCONSIGN YOUR CAR \nClicking on this button will take you to a Collecting Cars webpage. \nNote: – \nThe purpose of this webpage is to provide information on a Classic Car Auction. It refers to material that is in the Public Domain. Carsceneinternational.com has no commercial relationship with the organiser or sponsors featured and cannot be held responsible for any errors or misinformation appearing on this webpage. It is advisable to contact the Auction House featured to verify the details of any or all of the vehicles shown on this page. \n\n\nPrivacy Policy \n© carsceneinternational.com
URL:https://internationalcarevents.com/event/collecting-cars-live-auctions-2026/2031-05-01/
LOCATION:Online
CATEGORIES:Classic Car Auctions
ATTACH;FMTTYPE=image/jpeg:https://internationalcarevents.com/wp-content/uploads/2025/12/10-12-25-JJBB-02.jpg
GEO:55.378051;-3.435973
END:VEVENT
BEGIN:VEVENT
DTSTART;VALUE=DATE:20310601
DTEND;VALUE=DATE:20320531
DTSTAMP:20260421T154436
CREATED:20230512T105059Z
LAST-MODIFIED:20260120T160915Z
UID:10003698-1938038400-1969574399@internationalcarevents.com
SUMMARY:Collecting Cars - Live Auctions - 2026
DESCRIPTION:Collecting Cars started in the UK\, but quickly expanded with teams in mainland Europe\, Australia and the US. CC has rapidly become a global leader in the market and continues to break records around the world! \nClick on the image to see the latest lots on a Collecting Cars webpage. Note – the car shown may no longer be available – \n \nCONSIGN YOUR CAR \nClicking on this button will take you to a Collecting Cars webpage. \nNote: – \nThe purpose of this webpage is to provide information on a Classic Car Auction. It refers to material that is in the Public Domain. Carsceneinternational.com has no commercial relationship with the organiser or sponsors featured and cannot be held responsible for any errors or misinformation appearing on this webpage. It is advisable to contact the Auction House featured to verify the details of any or all of the vehicles shown on this page. \n\n\nPrivacy Policy \n© carsceneinternational.com
URL:https://internationalcarevents.com/event/collecting-cars-live-auctions-2026/2031-06-01/
LOCATION:Online
CATEGORIES:Classic Car Auctions
ATTACH;FMTTYPE=image/jpeg:https://internationalcarevents.com/wp-content/uploads/2025/12/10-12-25-JJBB-02.jpg
GEO:55.378051;-3.435973
END:VEVENT
BEGIN:VEVENT
DTSTART;VALUE=DATE:20310701
DTEND;VALUE=DATE:20320630
DTSTAMP:20260421T154436
CREATED:20230512T105059Z
LAST-MODIFIED:20260120T160915Z
UID:10003699-1940630400-1972166399@internationalcarevents.com
SUMMARY:Collecting Cars - Live Auctions - 2026
DESCRIPTION:Collecting Cars started in the UK\, but quickly expanded with teams in mainland Europe\, Australia and the US. CC has rapidly become a global leader in the market and continues to break records around the world! \nClick on the image to see the latest lots on a Collecting Cars webpage. Note – the car shown may no longer be available – \n \nCONSIGN YOUR CAR \nClicking on this button will take you to a Collecting Cars webpage. \nNote: – \nThe purpose of this webpage is to provide information on a Classic Car Auction. It refers to material that is in the Public Domain. Carsceneinternational.com has no commercial relationship with the organiser or sponsors featured and cannot be held responsible for any errors or misinformation appearing on this webpage. It is advisable to contact the Auction House featured to verify the details of any or all of the vehicles shown on this page. \n\n\nPrivacy Policy \n© carsceneinternational.com
URL:https://internationalcarevents.com/event/collecting-cars-live-auctions-2026/2031-07-01/
LOCATION:Online
CATEGORIES:Classic Car Auctions
ATTACH;FMTTYPE=image/jpeg:https://internationalcarevents.com/wp-content/uploads/2025/12/10-12-25-JJBB-02.jpg
GEO:55.378051;-3.435973
END:VEVENT
BEGIN:VEVENT
DTSTART;VALUE=DATE:20310801
DTEND;VALUE=DATE:20320731
DTSTAMP:20260421T154436
CREATED:20230512T105059Z
LAST-MODIFIED:20260120T160915Z
UID:10003700-1943308800-1974844799@internationalcarevents.com
SUMMARY:Collecting Cars - Live Auctions - 2026
DESCRIPTION:Collecting Cars started in the UK\, but quickly expanded with teams in mainland Europe\, Australia and the US. CC has rapidly become a global leader in the market and continues to break records around the world! \nClick on the image to see the latest lots on a Collecting Cars webpage. Note – the car shown may no longer be available – \n \nCONSIGN YOUR CAR \nClicking on this button will take you to a Collecting Cars webpage. \nNote: – \nThe purpose of this webpage is to provide information on a Classic Car Auction. It refers to material that is in the Public Domain. Carsceneinternational.com has no commercial relationship with the organiser or sponsors featured and cannot be held responsible for any errors or misinformation appearing on this webpage. It is advisable to contact the Auction House featured to verify the details of any or all of the vehicles shown on this page. \n\n\nPrivacy Policy \n© carsceneinternational.com
URL:https://internationalcarevents.com/event/collecting-cars-live-auctions-2026/2031-08-01/
LOCATION:Online
CATEGORIES:Classic Car Auctions
ATTACH;FMTTYPE=image/jpeg:https://internationalcarevents.com/wp-content/uploads/2025/12/10-12-25-JJBB-02.jpg
GEO:55.378051;-3.435973
END:VEVENT
BEGIN:VEVENT
DTSTART;VALUE=DATE:20310901
DTEND;VALUE=DATE:20320831
DTSTAMP:20260421T154436
CREATED:20230512T105059Z
LAST-MODIFIED:20260120T160915Z
UID:10003701-1945987200-1977523199@internationalcarevents.com
SUMMARY:Collecting Cars - Live Auctions - 2026
DESCRIPTION:Collecting Cars started in the UK\, but quickly expanded with teams in mainland Europe\, Australia and the US. CC has rapidly become a global leader in the market and continues to break records around the world! \nClick on the image to see the latest lots on a Collecting Cars webpage. Note – the car shown may no longer be available – \n \nCONSIGN YOUR CAR \nClicking on this button will take you to a Collecting Cars webpage. \nNote: – \nThe purpose of this webpage is to provide information on a Classic Car Auction. It refers to material that is in the Public Domain. Carsceneinternational.com has no commercial relationship with the organiser or sponsors featured and cannot be held responsible for any errors or misinformation appearing on this webpage. It is advisable to contact the Auction House featured to verify the details of any or all of the vehicles shown on this page. \n\n\nPrivacy Policy \n© carsceneinternational.com
URL:https://internationalcarevents.com/event/collecting-cars-live-auctions-2026/2031-09-01/
LOCATION:Online
CATEGORIES:Classic Car Auctions
ATTACH;FMTTYPE=image/jpeg:https://internationalcarevents.com/wp-content/uploads/2025/12/10-12-25-JJBB-02.jpg
GEO:55.378051;-3.435973
END:VEVENT
BEGIN:VEVENT
DTSTART;VALUE=DATE:20311001
DTEND;VALUE=DATE:20320930
DTSTAMP:20260421T154436
CREATED:20230512T105059Z
LAST-MODIFIED:20260120T160915Z
UID:10003702-1948579200-1980115199@internationalcarevents.com
SUMMARY:Collecting Cars - Live Auctions - 2026
DESCRIPTION:Collecting Cars started in the UK\, but quickly expanded with teams in mainland Europe\, Australia and the US. CC has rapidly become a global leader in the market and continues to break records around the world! \nClick on the image to see the latest lots on a Collecting Cars webpage. Note – the car shown may no longer be available – \n \nCONSIGN YOUR CAR \nClicking on this button will take you to a Collecting Cars webpage. \nNote: – \nThe purpose of this webpage is to provide information on a Classic Car Auction. It refers to material that is in the Public Domain. Carsceneinternational.com has no commercial relationship with the organiser or sponsors featured and cannot be held responsible for any errors or misinformation appearing on this webpage. It is advisable to contact the Auction House featured to verify the details of any or all of the vehicles shown on this page. \n\n\nPrivacy Policy \n© carsceneinternational.com
URL:https://internationalcarevents.com/event/collecting-cars-live-auctions-2026/2031-10-01/
LOCATION:Online
CATEGORIES:Classic Car Auctions
ATTACH;FMTTYPE=image/jpeg:https://internationalcarevents.com/wp-content/uploads/2025/12/10-12-25-JJBB-02.jpg
GEO:55.378051;-3.435973
END:VEVENT
BEGIN:VEVENT
DTSTART;VALUE=DATE:20311101
DTEND;VALUE=DATE:20321101
DTSTAMP:20260421T154436
CREATED:20230512T105059Z
LAST-MODIFIED:20260120T160915Z
UID:10003703-1951257600-1982797199@internationalcarevents.com
SUMMARY:Collecting Cars - Live Auctions - 2026
DESCRIPTION:Collecting Cars started in the UK\, but quickly expanded with teams in mainland Europe\, Australia and the US. CC has rapidly become a global leader in the market and continues to break records around the world! \nClick on the image to see the latest lots on a Collecting Cars webpage. Note – the car shown may no longer be available – \n \nCONSIGN YOUR CAR \nClicking on this button will take you to a Collecting Cars webpage. \nNote: – \nThe purpose of this webpage is to provide information on a Classic Car Auction. It refers to material that is in the Public Domain. Carsceneinternational.com has no commercial relationship with the organiser or sponsors featured and cannot be held responsible for any errors or misinformation appearing on this webpage. It is advisable to contact the Auction House featured to verify the details of any or all of the vehicles shown on this page. \n\n\nPrivacy Policy \n© carsceneinternational.com
URL:https://internationalcarevents.com/event/collecting-cars-live-auctions-2026/2031-11-01/
LOCATION:Online
CATEGORIES:Classic Car Auctions
ATTACH;FMTTYPE=image/jpeg:https://internationalcarevents.com/wp-content/uploads/2025/12/10-12-25-JJBB-02.jpg
GEO:55.378051;-3.435973
END:VEVENT
BEGIN:VEVENT
DTSTART;VALUE=DATE:20311201
DTEND;VALUE=DATE:20321130
DTSTAMP:20260421T154436
CREATED:20230512T105059Z
LAST-MODIFIED:20260120T160915Z
UID:10003704-1953849600-1985385599@internationalcarevents.com
SUMMARY:Collecting Cars - Live Auctions - 2026
DESCRIPTION:Collecting Cars started in the UK\, but quickly expanded with teams in mainland Europe\, Australia and the US. CC has rapidly become a global leader in the market and continues to break records around the world! \nClick on the image to see the latest lots on a Collecting Cars webpage. Note – the car shown may no longer be available – \n \nCONSIGN YOUR CAR \nClicking on this button will take you to a Collecting Cars webpage. \nNote: – \nThe purpose of this webpage is to provide information on a Classic Car Auction. It refers to material that is in the Public Domain. Carsceneinternational.com has no commercial relationship with the organiser or sponsors featured and cannot be held responsible for any errors or misinformation appearing on this webpage. It is advisable to contact the Auction House featured to verify the details of any or all of the vehicles shown on this page. \n\n\nPrivacy Policy \n© carsceneinternational.com
URL:https://internationalcarevents.com/event/collecting-cars-live-auctions-2026/2031-12-01/
LOCATION:Online
CATEGORIES:Classic Car Auctions
ATTACH;FMTTYPE=image/jpeg:https://internationalcarevents.com/wp-content/uploads/2025/12/10-12-25-JJBB-02.jpg
GEO:55.378051;-3.435973
END:VEVENT
BEGIN:VEVENT
DTSTART;VALUE=DATE:20320101
DTEND;VALUE=DATE:20321231
DTSTAMP:20260421T154436
CREATED:20230512T105059Z
LAST-MODIFIED:20260120T160915Z
UID:10003705-1956528000-1988063999@internationalcarevents.com
SUMMARY:Collecting Cars - Live Auctions - 2026
DESCRIPTION:Collecting Cars started in the UK\, but quickly expanded with teams in mainland Europe\, Australia and the US. CC has rapidly become a global leader in the market and continues to break records around the world! \nClick on the image to see the latest lots on a Collecting Cars webpage. Note – the car shown may no longer be available – \n \nCONSIGN YOUR CAR \nClicking on this button will take you to a Collecting Cars webpage. \nNote: – \nThe purpose of this webpage is to provide information on a Classic Car Auction. It refers to material that is in the Public Domain. Carsceneinternational.com has no commercial relationship with the organiser or sponsors featured and cannot be held responsible for any errors or misinformation appearing on this webpage. It is advisable to contact the Auction House featured to verify the details of any or all of the vehicles shown on this page. \n\n\nPrivacy Policy \n© carsceneinternational.com
URL:https://internationalcarevents.com/event/collecting-cars-live-auctions-2026/2032-01-01/
LOCATION:Online
CATEGORIES:Classic Car Auctions
ATTACH;FMTTYPE=image/jpeg:https://internationalcarevents.com/wp-content/uploads/2025/12/10-12-25-JJBB-02.jpg
GEO:55.378051;-3.435973
END:VEVENT
END:VCALENDAR