BEGIN:VCALENDAR
VERSION:2.0
PRODID:-//International Car Events by Car Scene Int. - ECPv6.5.0.1//NONSGML v1.0//EN
CALSCALE:GREGORIAN
METHOD:PUBLISH
X-ORIGINAL-URL:https://internationalcarevents.com
X-WR-CALDESC:Events for International Car Events by Car Scene Int.
REFRESH-INTERVAL;VALUE=DURATION:PT1H
X-Robots-Tag:noindex
X-PUBLISHED-TTL:PT1H
BEGIN:VTIMEZONE
TZID:Europe/London
BEGIN:DAYLIGHT
TZOFFSETFROM:+0000
TZOFFSETTO:+0100
TZNAME:BST
DTSTART:20230326T010000
END:DAYLIGHT
BEGIN:STANDARD
TZOFFSETFROM:+0100
TZOFFSETTO:+0000
TZNAME:GMT
DTSTART:20231029T010000
END:STANDARD
END:VTIMEZONE
BEGIN:VEVENT
DTSTART;TZID=Europe/London:20230617T100000
DTEND;TZID=Europe/London:20230618T160000
DTSTAMP:20260418T043754
CREATED:20230412T161350Z
LAST-MODIFIED:20230412T161350Z
UID:10000215-1686996000-1687104000@internationalcarevents.com
SUMMARY:Bath Festival of Motoring 2023
DESCRIPTION:The Bath Festival of Motoring will feature an extensive programme of parades\, exhibitions\, demonstrations and super car rides\, alongside competitions\, live music and family activities. \nFeaturing an eclectic display of classic and vintage cars and motorcycles\, the event will be a fun-filled weekend for all the family. Bath Festival of Motoring is a two-day event run by Bath Rotary Club and once again this year will raise money for charity. \nBUY YOUR TICKETS NOW \nClicking on this button will take you to an Eventbrite webpage \n  \nNote: – \nThe purpose of this webpage is to provide information on a Classic Car Show. It refers to material that is in the Public Domain. Carsceneinternational.com has no commercial relationship with the organiser or sponsors featured. \nPlease note that CSI does not organise events and is not responsible for any of the activities referred to above. All enquiries relating to the event should be addressed to the organisers whose website is given below. \nPrivacy Policy \n© carsceneinternational.com    \n  \n \n  \n 
URL:https://internationalcarevents.com/event/bath-festival-of-motoring-2023/
ATTACH;FMTTYPE=image/jpeg:https://internationalcarevents.com/wp-content/uploads/2023/04/Bath-Festival-of-Motoring12.jpg
END:VEVENT
END:VCALENDAR