BEGIN:VCALENDAR
VERSION:2.0
PRODID:-//International Car Events by Car Scene Int. - ECPv6.5.0.1//NONSGML v1.0//EN
CALSCALE:GREGORIAN
METHOD:PUBLISH
X-WR-CALNAME:International Car Events by Car Scene Int.
X-ORIGINAL-URL:https://internationalcarevents.com
X-WR-CALDESC:Events for International Car Events by Car Scene Int.
REFRESH-INTERVAL;VALUE=DURATION:PT1H
X-Robots-Tag:noindex
X-PUBLISHED-TTL:PT1H
BEGIN:VTIMEZONE
TZID:Europe/London
BEGIN:DAYLIGHT
TZOFFSETFROM:+0000
TZOFFSETTO:+0100
TZNAME:BST
DTSTART:20240331T010000
END:DAYLIGHT
BEGIN:STANDARD
TZOFFSETFROM:+0100
TZOFFSETTO:+0000
TZNAME:GMT
DTSTART:20241027T010000
END:STANDARD
BEGIN:DAYLIGHT
TZOFFSETFROM:+0000
TZOFFSETTO:+0100
TZNAME:BST
DTSTART:20250330T010000
END:DAYLIGHT
BEGIN:STANDARD
TZOFFSETFROM:+0100
TZOFFSETTO:+0000
TZNAME:GMT
DTSTART:20251026T010000
END:STANDARD
END:VTIMEZONE
BEGIN:VEVENT
DTSTART;TZID=Europe/London:20250221T093000
DTEND;TZID=Europe/London:20250223T163000
DTSTAMP:20260419T163308
CREATED:20241202T115118Z
LAST-MODIFIED:20241207T121802Z
UID:10000917-1740130200-1740328200@internationalcarevents.com
SUMMARY:Reis Race Retro - Stoneleigh Park - 21-23 February 2025
DESCRIPTION:To purchase tickets for Reis Race Retro 2025 please click the See Tickets logo below\n \nKeep your fingers crossed that the weather Gods will be kinder to us this time and that the 2025 Race Retro event will return in its full glory\, celebrating all things “Motor Sport”. Those looking forward to a new year of motor sport activities be it circuit racing\, rallying and everything in between\, whether as participants or spectators\, will find something of interest at this eagerly anticipated annual event. Also not to be missed are the Iconic Auctioneers auctions of competition cars\, collector cars and automobilia. \nHere is a taste of what it’s like – click on image – \nBUY TICKETS \n  \n  \nIconic Auctioneers \nIconic Auctioneers at Race Retro – Stoneleigh Park – 22 February 2025 \n \nNote: – \nThe purpose of this webpage is to provide information on a Classic Car Show. It refers to material that is in the Public Domain. Carsceneinternational.com has no commercial relationship with the organiser or sponsors featured. \nPlease note that CSI does not organise events and is not responsible for any of the activities referred to above. All enquiries relating to the event should be addressed to the organisers whose website is given below. \nPrivacy Policy \n© carsceneinternational.com    \n  \n \n  \n 
URL:https://internationalcarevents.com/event/reis-race-retro-stoneleigh-park-21-23-february-2025/
LOCATION:Stoneleigh Park\, Royal Showground\, Nr. Kenilworth\, CV8 2LZ\, United Kingdom
CATEGORIES:Classic Car Auctions,Classic Car Event,Classic Car Rally,Classic Car Show
ATTACH;FMTTYPE=image/jpeg:https://internationalcarevents.com/wp-content/uploads/2023/11/P1090245.jpg
GEO:52.3393745;-1.5269285
X-APPLE-STRUCTURED-LOCATION;VALUE=URI;X-ADDRESS=Stoneleigh Park Royal Showground Nr. Kenilworth CV8 2LZ United Kingdom;X-APPLE-RADIUS=500;X-TITLE=Royal Showground\, Nr. Kenilworth:geo:-1.5269285,52.3393745
END:VEVENT
BEGIN:VEVENT
DTSTART;TZID=Europe/London:20240223T090000
DTEND;TZID=Europe/London:20240225T160000
DTSTAMP:20260419T163308
CREATED:20180819T115757Z
LAST-MODIFIED:20180819T115757Z
UID:10000006-1708678800-1708876800@internationalcarevents.com
SUMMARY:Reis Race Retro 2024 - Stoneleigh Park
DESCRIPTION:CANCELLED!\nCSI received this message from the organisers today –\n“Following extensive discussions and in consultation with the Warwickshire District Council Safety Advisory Group and Warwickshire Police\, it has been determined that adverse weather conditions\, particularly extensive flooding\, rain forecast through to the weekend and road closures render it unsafe to proceed with the event as scheduled.\nVisitor tickets already purchased will automatically be carried over to Reis Race Retro\, 21-23 February\, 2025. However\, full refunds are available if visitors would prefer. Information on how to request a refund can be found on the event website\, www.raceretro.com.”\nThe Iconic Auctioneers auction will now take place at ‘The Wing’\, Silverstone Circuit\nhttps://www.carsceneinternational.com/uk-classic-car-shows-club-event/iconic-auctioneers-at-race-retro-2024/\n  \n  \nRace Retro brings together over 24\,000 fans\, drivers\, preparers\, traders and enthusiasts to enjoy a weekend of everything you need to prepare for the motorsport season ahead. \nCovering every discipline including formula and circuit racing\, rallying\, hill climbs\, touring cars\, single marque series\, GT cars and more\, the event features a fantastic showcase of iconic cars across the halls\, alongside traders who can supply all your motorsport needs from clothes\, to parts\, art and medicals\, and a stage hosting legends of the track. \nJoin the Virtual Rally\n‘Rallying with Group B’ have announced their new online rally game with Reis Race Retro\, consisting of 5 rallies\, each with 2 legs.  Enter Now \nhttps://www.carsceneinternational.com/race-retro-2023-silverstone-auctions-cars/\n2019 Show Report – click on image – \n  \nhttps://www.carsceneinternational.com/uk-classic-car-shows-club-event/iconic-auctioneers-at-race-retro-2024/ \nNote: – \nThe purpose of this webpage is to provide information on a Classic Car Show. It refers to material that is in the Public Domain. Carsceneinternational.com has no commercial relationship with the organiser or sponsors featured. \nPlease note that CSI does not organise events and is not responsible for any of the activities referred to above. All enquiries relating to the event should be addressed to the organisers whose website is given below. \nPrivacy Policy \n© carsceneinternational.com    \n  \n \n  \n 
URL:https://internationalcarevents.com/event/race-retro-2024/
LOCATION:Stoneleigh Park\, Royal Showground\, Nr. Kenilworth\, CV8 2LZ\, United Kingdom
CATEGORIES:Classic Car Auctions,Classic Car Rally,Classic Car Show
ATTACH;FMTTYPE=image/jpeg:https://internationalcarevents.com/wp-content/uploads/2019/02/P1040532-Copy-e1706614406573.jpg
GEO:52.3393745;-1.5269285
X-APPLE-STRUCTURED-LOCATION;VALUE=URI;X-ADDRESS=Stoneleigh Park Royal Showground Nr. Kenilworth CV8 2LZ United Kingdom;X-APPLE-RADIUS=500;X-TITLE=Royal Showground\, Nr. Kenilworth:geo:-1.5269285,52.3393745
END:VEVENT
END:VCALENDAR