BEGIN:VCALENDAR
VERSION:2.0
PRODID:-//International Car Events by Car Scene Int. - ECPv6.5.0.1//NONSGML v1.0//EN
CALSCALE:GREGORIAN
METHOD:PUBLISH
X-ORIGINAL-URL:https://internationalcarevents.com
X-WR-CALDESC:Events for International Car Events by Car Scene Int.
REFRESH-INTERVAL;VALUE=DURATION:PT1H
X-Robots-Tag:noindex
X-PUBLISHED-TTL:PT1H
BEGIN:VTIMEZONE
TZID:Europe/London
BEGIN:DAYLIGHT
TZOFFSETFROM:+0000
TZOFFSETTO:+0100
TZNAME:BST
DTSTART:20190331T010000
END:DAYLIGHT
BEGIN:STANDARD
TZOFFSETFROM:+0100
TZOFFSETTO:+0000
TZNAME:GMT
DTSTART:20191027T010000
END:STANDARD
END:VTIMEZONE
BEGIN:VEVENT
DTSTART;TZID=Europe/London:20190922T100000
DTEND;TZID=Europe/London:20190922T180000
DTSTAMP:20260419T122225
CREATED:20231105T192059Z
LAST-MODIFIED:20231105T192059Z
UID:10000303-1569146400-1569175200@internationalcarevents.com
SUMMARY:The Warren Classic & Supercar Show 2019
DESCRIPTION:A major part of the show is the Concours d’Elegance competition. This provides a wonderful opportunity to view some of the world’s finest classic motorcars. Over one hundred and twenty cars from around the world will be selected by the organising committee to compete\, over twelve categories\, in the Warren Classic Concours. \nThis is a unique opportunity to get up close to some of the finest examples of motorcar in the world and to talk to the owners. The judges\, hand-picked for their specialist knowledge of veteran\, vintage and classic cars\, will judge the cars based on presentation\, originality and of course\, elegance. Following judging the winners of each category will form a procession into the main arena\, where the winner of the Warren Concours d’Elegance will be selected. \n  \n\n\nPrivacy Policy\nThe purpose of this webpage is to provide information on a Classic Car show and refers to material which is in the Public Domain. Carsceneinternational.com has no commercial relationship with the organisation featured. \n \n  \ncarsceneinternational.com
URL:https://internationalcarevents.com/event/warren-classic-supercar-show-2019/
LOCATION:The Warren Estate\, Woodham Walter\, Maldon\, CM9 6RW\, United Kingdom
CATEGORIES:Classic Car Show,Concours d'Elegance
ATTACH;FMTTYPE=image/jpeg:https://internationalcarevents.com/wp-content/uploads/2019/04/warrenconcours.jpg
GEO:51.7266898;0.6035631
X-APPLE-STRUCTURED-LOCATION;VALUE=URI;X-ADDRESS=The Warren Estate Woodham Walter Maldon CM9 6RW United Kingdom;X-APPLE-RADIUS=500;X-TITLE=Woodham Walter:geo:0.6035631,51.7266898
END:VEVENT
END:VCALENDAR