BEGIN:VCALENDAR
VERSION:2.0
PRODID:-//International Car Events by Car Scene Int. - ECPv6.5.0.1//NONSGML v1.0//EN
CALSCALE:GREGORIAN
METHOD:PUBLISH
X-ORIGINAL-URL:https://internationalcarevents.com
X-WR-CALDESC:Events for International Car Events by Car Scene Int.
REFRESH-INTERVAL;VALUE=DURATION:PT1H
X-Robots-Tag:noindex
X-PUBLISHED-TTL:PT1H
BEGIN:VTIMEZONE
TZID:America/New_York
BEGIN:DAYLIGHT
TZOFFSETFROM:-0500
TZOFFSETTO:-0400
TZNAME:EDT
DTSTART:20250309T070000
END:DAYLIGHT
BEGIN:STANDARD
TZOFFSETFROM:-0400
TZOFFSETTO:-0500
TZNAME:EST
DTSTART:20251102T060000
END:STANDARD
END:VTIMEZONE
BEGIN:VEVENT
DTSTART;TZID=America/New_York:20250919T140000
DTEND;TZID=America/New_York:20250920T170000
DTSTAMP:20260422T023930
CREATED:20250712T101644Z
LAST-MODIFIED:20250914T114944Z
UID:10001167-1758290400-1758387600@internationalcarevents.com
SUMMARY:Saratoga Car Auction - September 19-20 2025
DESCRIPTION:The ninth annual Saratoga Motorcar Auction will be held on Friday\, Sept. 19 from 2 p.m. to 7 pm and Saturday\, Sept. 20  from 10 a.m. to  5 p.m. in the grounds of the Saratoga Casino Hotel.\nBased on previous auctions\, there is expected to be a vast array of excellent vehicles available to bid for\, new consignments are being made on a daily basis. \nThere will be opportunities to bid in person\, online\, over the phone\, or via proxy. \nClick on this image to see the lots consigned to this auction plus details of how to bid and consign on a Saratoga Auction webpage  \n \n  \nVIEWING \nThursday\, September 18\, 2025 from 1 PM to 5 PM at Saratoga Casino Hotel  \n\nNote: –\n\nThe purpose of this webpage is to provide information on a Classic Car Auction. It refers to material that is in the Public Domain. Carsceneinternational.com has no commercial relationship with the organiser or sponsors featured and cannot be held responsible for any errors or misinformation appearing on this webpage. It is advisable to contact the Auction House featured to verify the details of any or all of the vehicles referred to on this page. \n\n\nPrivacy Policy \n© carsceneinternational.com
URL:https://internationalcarevents.com/event/saratoga-car-auction-september-19-20-2025/
LOCATION:Saratoga Casino Hotel\, Jefferson Street\, Saratoga Springs\, NY\, 12866\, United States
CATEGORIES:Classic Car Auctions
ATTACH;FMTTYPE=image/jpeg:https://internationalcarevents.com/wp-content/uploads/2025/09/2003-jaguar-s-type.jpg
GEO:43.0614796;-73.7737174
X-APPLE-STRUCTURED-LOCATION;VALUE=URI;X-ADDRESS=Saratoga Casino Hotel Jefferson Street Saratoga Springs NY 12866 United States;X-APPLE-RADIUS=500;X-TITLE=Jefferson Street:geo:-73.7737174,43.0614796
END:VEVENT
END:VCALENDAR